BEGIN:VCALENDAR
VERSION:2.0
PRODID:-//gha.health//Veranstaltungen//DE
CALSCALE:GREGORIAN
BEGIN:VEVENT
UID:69e73558a6631@gha.health
DTSTAMP:20260421T082912Z
DTSTART:20251007
DTEND:20251009
SUMMARY:FII Senegal 2025 – Connecting Opportunities, Building the Future
LOCATION:Dakar, Senegal
DESCRIPTION:Die neue senegalesische Regierung unter Präsident Bassirou Diomaye Faye öffnet sich gezielt für ausländische Investoren und lädt am 7.–8. Oktober 2025 zum internationalen Forum „Invest in Senegal“ in Dakar ein. Erwartet werden 3.000 Teilnehmer*innen, 40 Aussteller und zahlreiche Fachforen.\n\n\nSenegal positioniert sich als stabiler Ankerpunkt und wichtiger Partner in Westafrika – einer Region mit rund 320 Millionen Menschen. Das Forum steht unter dem Leitmotiv „Connecting Opportunities, Building the Future“ und verknüpft Talente, Ideen, Ressourcen und Märkte, um nachhaltige Lösungen für eine inklusive wirtschaftliche Entwicklung zu schaffen.\n\n\nStrategische Schwerpunkte des Forums sind unter anderem Agriculture, Health, Natural Resources, Information Technology & Artificial Intelligence, Industrialization und Financing. Besonders im Fokus: der Aufbau einer leistungsfähigen Pharmaindustrie, als Teil einer umfassenden Gesundheitsstrategie der neuen Regierung. Das Forum steht zudem im Zeichen des neuen Investitionsgesetzes (Investment Code), das im September 2025 vorgestellt wird.\n\n\nHighlights:\n\n\n\n\n 	\nPräsidentielle und thematische Panels zu zentralen Wirtschafts- und Entwicklungsfragen\n\n\n\n 	\nBoardrooms für vertrauliche Gespräche zwischen Entscheidungsträgern und Investoren\n\n\n\n 	\nDeal Rooms zur Finalisierung konkreter Partnerschaften\n\n\n\n 	\nSide Events für themenspezifische Diskussionen und Projektvorstellungen\n\n\n\n 	\nInstitutionelle Ausstellung zu Energie, Industrie, Gesundheit, Infrastruktur, Tourismus und Technologie\n\n\n\n 	\nNetworking auf höchstem Niveau mit führenden Persönlichkeiten aus Politik, Wirtschaft und internationalen Organisationen\n\n\n\n 	\nKulturelle Erlebnisse wie eine kulinarische Ausstellung senegalesischer Gastronomie und eine Handwerksausstellung\n\n\n\n\nDeutsche BeteiligungDie deutsche Entwicklungszusammenarbeit bietet deutschen Unternehmen eine Plattform, um sich zu präsentieren, Geschäftskontakte aufzubauen und Zugang zu öffentlichen, privaten sowie finanziellen Partnern zu erhalten.Unterstützung erhalten Unternehmen von:\n\n\n\n\n 	\nRozenn Le Mentec (GIZ SenPharm) – rozenn.lementec@giz.de\n\n\n\n 	\nDr. Stephan Kunz (GIZ Invest for Jobs) – stephan.kunz@giz.de\n\n\n\n\nWeitere Informationen & Anmeldung:🌐 fiisenegal.sn📧 fiisenegal2025@apix.sn📞 +221 78 710 29 83 | +221 78 540 82 27\n\n\nWillkommen in einem transformierenden Senegal. Willkommen bei FII Senegal 2025.
END:VEVENT
END:VCALENDAR
