BEGIN:VCALENDAR
VERSION:2.0
PRODID:-//gha.health//Veranstaltungen//DE
CALSCALE:GREGORIAN
BEGIN:VEVENT
UID:69e73560008f6@gha.health
DTSTAMP:20260421T082920Z
DTSTART:20250922T130021
DTEND:20250922T143021
SUMMARY:Health Manufacturing in South Africa: Opportunities for European Companies
LOCATION:Online
DESCRIPTION:Am 8. Oktober von 13:00 bis 14:40 Uhr lädt die Agentur für Wirtschaft und Entwicklung (AWE) gemeinsam mit dem SAVax-Programm, das im Auftrag des Bundesministeriums für wirtschaftliche Zusammenarbeit und Entwicklung (BMZ) sowie der Europäischen Union (EU) von der GIZ in Kooperation mit dem südafrikanischen Ministerium für Wissenschaft, Technologie und Innovation sowie dem Gesundheitsministerium umgesetzt wird, zu einem interaktiven Webinar ein.\n\n\nWährend Südafrika die lokale Produktion von Arzneimitteln, Impfstoffen und Gesundheitstechnologien ausbaut, eröffnen sich neue Chancen zur Zusammenarbeit, Innovation und Investition. Diese Online-Veranstaltung bringt Akzeleratoren, Innovatorinnen und Innovatoren, Förderprojekte sowie private Akteure aus Deutschland, der EU und Südafrika zusammen, um konkrete Ansatzpunkte für Kooperationen zu erörtern.\n\n\nThemen des Webinars\n\n\n\n\n 	\nÜberblick über das biopharmazeutische und biotechnologische Umfeld Südafrikas: Infrastruktur, politische Rahmenbedingungen, Marktpotenzial\n\n\n\n 	\nMöglichkeiten für europäische Unternehmen: Auftragsfertigung, Lizenzvergabe, Forschung und Entwicklung, Technologietransfer\n\n\n\n 	\nPräsentationen führender südafrikanischer Akzeleratoren und Innovationsplattformen mit vielversprechenden Projekten\n\n\n\n 	\nDiskussion über Unterstützungsformate wie technische Assistenz, Fördermittel und Schulungen\n\n\n\n 	\nAusblick auf nächste Schritte: Matchmaking mit lokalen Partnern und Projektbegleitung durch GIZ/SAVax\n\n\n\n\nZielgruppe\n\n\n\n\n 	\nEuropäische und deutsche Unternehmen aus der Pharma-, Biotech- und Gesundheitstechnologiebranche sowie angrenzende Dienstleister\n\n\n\n 	\nInnovationstreiber, Projektträger und Fördernetzwerke\n\n\n\n 	\nInvestierende und unterstützende Organisationen mit Interesse an internationaler Zusammenarbeit\n\n\n\n\nAnmeldung :Link zur Anmeldung (https://assets-eur.mkt.dynamics.com/a53ba563-5691-4132-a95b-e366c03fcaf0/digitalassets/standaloneforms/62d58c25-1b88-f011-b4cc-7c1e52878937?readableEventId=Neue_Ereignis_13801833340)
END:VEVENT
END:VCALENDAR
