BEGIN:VCALENDAR
VERSION:2.0
PRODID:-//gha.health//Veranstaltungen//DE
CALSCALE:GREGORIAN
BEGIN:VEVENT
UID:69e73560cc598@gha.health
DTSTAMP:20260421T082920Z
DTSTART:20260426
DTEND:20260501
SUMMARY:Delegationsreise zum WHS Regional Meeting in Nairobi | 26 – 30 Apr | Nairobi
LOCATION:Nairobi
DESCRIPTION:Die GHA – German Health Alliance plant gemeinsam mit dem Afrika-Verein eine Delegationsreise nach Nairobi anlässlich des Regional Meetings des World Health Summit, das vom 26.–30. April 2026 stattfinden wird.\n\n\n\n\n\nNeben der Teilnahme am Regional Meeting erwartet die Delegation ein vielfältiges Rahmenprogramm, das Einblicke in das kenianische Gesundheitssystem sowie den Austausch mit relevanten Akteuren vor Ort ermöglicht. Geplant sind unter anderem der Besuch einer Primary Health Care Facility in Nairobi, Gespräche mit Vertreterinnen und Vertretern des kenianischen Gesundheitsministeriums sowie Termine mit wichtigen Institutionen wie der Kenya Medical Supplies Authority (KEMSA). Darüber hinaus sind Treffen mit NGOs, ein möglicher Krankenhausbesuch sowie Networking‑Formate – wie etwa ein German Business Network Breakfast – vorgesehen.\n\nAußerdem ist für den Nachmittag des 27. April ein Roundtable mit der Bundesministerin Reem Alabali Radovan in kleinem Rahmen geplant, an dem die Delegation teilnehmen wird.\n\nDie Reise richtet sich an Teilnehmerinnen und Teilnehmer, die sowohl am WHS Regional Meeting als auch an gezielten Fachgesprächen und Unternehmensbesuchen interessiert sind. Ein Teil des Programms wird flexibel gestaltet, damit auf die Interessen der Delegation eingegangen werden kann. Die individuelle Anreise ist für den 25. April vorgesehen; die Abreise erfolgt am Abend des 30. April individuell.\n\n&nbsp;\n\n\nTeilnahmebeitrag\nDer Teilnahmebeitrag beträgt:\n\n\n\n\n 	\n650 € für Mitglieder der GHA und des Afrika-Vereins\n\n\n\n 	\n780 € für Nicht-Mitglieder\n\n\n\n 	\n450 € für NGOs\n\n\n\n\n(jeweils zzgl. MwSt.)\n\n\n\n\nIm Teilnahmebeitrag enthalten sind:\n\n 	\nOrganisation und Begleitung der Delegation\n\n\n\n 	\nGemeinsame Programmpunkte\n\n\n\n\n\nNicht im Teilnahmebeitrag enthalten sind:\n\n 	\nReise- und Übernachtungskosten\n\n\n\n 	\nIndividuelle Registrierung für das WHS Regional Meeting\n\n\n\n\n\nAnmeldung\nEine Anmeldung zu dieser Delegationsreise ist derzeit nicht mehr möglich. Sollten dennoch Rückfragen oder besonderes Interesse bestehen, steht Ihnen Frau Dr. Lara Petersen (petersen@gha.health) gerne zur Verfügung.
END:VEVENT
END:VCALENDAR
