BEGIN:VCALENDAR
VERSION:2.0
PRODID:-//gha.health//Veranstaltungen//DE
CALSCALE:GREGORIAN
BEGIN:VEVENT
UID:69e74e0e73177@gha.health
DTSTAMP:20260421T101438Z
DTSTART:20260420
DTEND:20260424
SUMMARY:Delegation Norway: Geschäftsanbahnung im Rahmen des BMWK‑Markterschließungsprogramms | 20 – 23 Apr | Berlin
LOCATION:Berlin
DESCRIPTION:Im Rahmen des Markterschließungsprogramms des Bundesministeriums für Wirtschaft und Energie (BMWK) findet eine Informationsreise nach Norwegen statt, die deutsche Unternehmen der Gesundheitswirtschaft, des Maschinen- und Anlagenbaus sowie der Medizintechnik beim gezielten Markteintritt unterstützt. Die Maßnahme wird aufgrund eines Beschlusses des Deutschen Bundestages gefördert.\n\n\nZiel der Reise ist es, norwegisch-deutsche Kooperationen im Gesundheitswesen zu stärken und Unternehmen im Kontext der Digital Medical Expertise & Application (DMEA) neue Chancen im Zukunftsmarkt digitale Gesundheit zu eröffnen.\n\nWarum Norwegen? – Marktchancen auf einen Blick\nNorwegen zählt zu den innovativsten Märkten Europas und bietet hervorragende Rahmenbedingungen für deutsche Unternehmen:\n\n 	Spitzenforschung & Innovationskraft: Führend in Bereichen wie Künstliche Intelligenz, Biowissenschaften und digitaler Gesundheit; starke Cluster, Start-ups und Scale-ups.\n 	Wachsender Bedarf an MedTech & Telemedizin: Hohe Nachfrage nach innovativer Medizintechnik, telemedizinischen Anwendungen und digitalen Gesundheitslösungen.\n 	Interoperable und sichere Gesundheits-IT: Fokus auf vernetzte, datensichere Systeme – ein idealer Anknüpfungspunkt zu deutschen Entwicklungen in Interoperabilität und digitaler Versorgung.\n 	Forschungspartnerschaften: Attraktive Möglichkeiten für Kooperationen mit Universitäten, Kliniken und Forschungszentren im Bereich KI, MedTech und digitaler Gesundheit.\n 	Best Practices für vernetzte Versorgung: Gegenseitiger Austausch, um Gesundheitssysteme effizienter und patientenzentrierter zu gestalten.\n\n\nIhre Vorteile als teilnehmendes Unternehmen\nDie Informationsreise eröffnet deutschen Unternehmen konkrete Chancen für Markteinstieg und Kooperation:\n\n 	Direkter Zugang zu norwegischen Branchenakteuren: Aufbau neuer Kontakte oder Vertiefung bestehender Geschäftsbeziehungen; inklusive individueller Erstgespräche.\n 	Präsentationsmöglichkeiten: Vorstellung Ihrer Lösungen im Rahmen einer deutsch-norwegischen Fachkonferenz oder durch Referenzbesichtigungen (Raum Berlin und Umgebung).\n 	Exklusive Marktinformationen: Detaillierte Einblicke in den norwegischen Gesundheitsmarkt, inklusive Einschätzungen zu Eintrittsstrategien, Potenzialen und Rahmenbedingungen.\n\n\nAnmeldung\nNorwegisch-deutsche Kooperationen im Gesundheitswesen Informationsreise (https://www.dreberis.com/de/form/kontaktformular/Norwegisch-deutsche_Informationsreise_Gesundheitswirtschaft_2026)
END:VEVENT
END:VCALENDAR
