BEGIN:VCALENDAR
VERSION:2.0
PRODID:-//gha.health//Veranstaltungen//DE
CALSCALE:GREGORIAN
BEGIN:VEVENT
UID:69e777533de98@gha.health
DTSTAMP:20260421T131043Z
DTSTART:20261004
DTEND:20261010
SUMMARY:Geschäftsanbahnung USA | 4 – 9 Okt | Boston & San Diego
LOCATION:Boston & San Diego
DESCRIPTION:Die Vereinigten Staaten zählen zu den weltweit führenden Märkten der Gesundheitswirtschaft und der medizinischen Biotechnologie. Die Branche ist geprägt durch eine hohe Innovationsdynamik, starke Investitionen in Forschung und Entwicklung sowie eine ausgebaute Life-Sciences-Infrastruktur. Insbesondere die medizinische Biotechnologie gilt als zentraler Wachstumstreiber, etwa in den Bereichen personalisierte Medizin, Zell- und Gentherapien, mRNA-Technologien sowie biopharmazeutische Anwendungen.\n\nFür deutsche Unternehmen der Gesundheitswirtschaft und medizinischen Biotechnologie ergeben sich daraus attraktive Marktchancen. Besonders gefragt sind spezialisierte, forschungsnahe Lösungen mit hoher klinischer Relevanz. Deutsche Unternehmen können dabei ihre wissenschaftliche Exzellenz, regulatorische Kompetenz sowie hohe Standards im Datenschutz und in der Qualitätssicherung als Wettbewerbsvorteile im US-Markt nutzen.
END:VEVENT
END:VCALENDAR
