BEGIN:VCALENDAR
VERSION:2.0
PRODID:-//gha.health//Veranstaltungen//DE
CALSCALE:GREGORIAN
BEGIN:VEVENT
UID:69e7355fb24f9@gha.health
DTSTAMP:20260421T082919Z
DTSTART:20260422
DTEND:20260425
SUMMARY:26th MEDEXPO Africa 2026
LOCATION:Nairobi, Kenya
DESCRIPTION:Die 26. MEDEXPO Africa 2026 ist eine der führenden internationalen Fachmessen für Medizintechnik und Gesundheitswirtschaft in Ostafrika. Mit Ausstellern aus über 30 Ländern bietet die Messe eine zentrale Plattform für Innovation, Marktzugang und internationale Geschäftsanbahnung im dynamisch wachsenden afrikanischen Gesundheitsmarkt.\n\n\nIm Germany Pavilion präsentieren sich deutsche Unternehmen gebündelt unter einer starken Marke „Made in Germany“ und profitieren von erhöhter Sichtbarkeit, professioneller Organisation sowie gezielten Networking-Möglichkeiten mit lokalen Entscheidungsträgern, Distributoren und Fachpublikum.\n\n\nDie MEDEXPO Africa bringt Hersteller, Händler, Kliniken, Regierungsvertreter und Branchenexpert:innen zusammen und schafft ideale Rahmenbedingungen für nachhaltige Partnerschaften und Markteintrittsstrategien in der Region.\n\n\nDie offizielle Website für die Anmeldung zur Teilnahme am Germany Pavilion ist auf unserer Seite entsprechend verlinkt.
END:VEVENT
END:VCALENDAR
