BEGIN:VCALENDAR
VERSION:2.0
PRODID:-//gha.health//Veranstaltungen//DE
CALSCALE:GREGORIAN
BEGIN:VEVENT
UID:69e75e64dbf92@gha.health
DTSTAMP:20260421T112420Z
DTSTART:20260720
DTEND:20260724
SUMMARY:Medizintechnik Ukraine 2026 – Perspektiven für bayerische Unternehmen
LOCATION:Bayern
DESCRIPTION:Vom 20. bis 23. Juli 2026 besucht eine Delegation ukrainischer Entscheidungsträger:innen aus dem Bereich Medizintechnik Bayern im Rahmen des internationalen Weiterbildungsprogramms „Bayern – Fit for Partnership“. Ziel des Programms ist der Aufbau konkreter Geschäfts- und Kooperationsbeziehungen zwischen ukrainischen Einrichtungen und bayerischen Unternehmen.\n\n\nGesucht werden bayerische Anbieter von MedTech-Endprodukten, Komponenten, Produktionstechnik sowie IT- und KI-Lösungen – insbesondere in den Bereichen eHealth und Telemedizin, Krankenhaus-IT und digitale Diagnostik, bildgebende Systeme, Reha-Technologien und Prothetik, VR/AR-Anwendungen in Therapie und Ausbildung sowie Komponentenlieferung und Technologietransfer.\n\n\nDer ukrainische Gesundheitssektor befindet sich im Zuge des Wiederaufbaus in einer Phase umfassender Investitionen. Der geschätzte Investitionsbedarf liegt bei rund 15 Mrd. USD, während gleichzeitig eine Importabhängigkeit von etwa 90 % bei Medizintechnik besteht. Internationale Finanzierungsprogramme, unter anderem durch die EU und die Weltbank, schaffen zusätzliche Rahmenbedingungen für neue Projekte und Kooperationen.\n\n\nFür bayerische Unternehmen bietet sich damit die Möglichkeit, frühzeitig Kontakte zu rund 15 ukrainischen Entscheidungsträger:innen zu knüpfen, darunter Krankenhausträger, Importeur:innen, Distributoren sowie Vertreter:innen öffentlicher Einrichtungen. Bestandteil des Programms sind individuell organisierte Unternehmensbesuche sowie eine Kooperationsveranstaltung mit vorstrukturierten B2B-Gesprächen am 21. Juli 2026 am Vormittag in der IHK-Akademie Mittelfranken in Nürnberg. Die Teilnahme ist kostenfrei und beinhaltet auch eine Verdolmetschung.\n\n\nInteressierte Unternehmen erhalten weitere Informationen bei:\nAHP International\nE-Mail: kaefer@ahp-international.com
END:VEVENT
END:VCALENDAR
