BEGIN:VCALENDAR
VERSION:2.0
PRODID:-//gha.health//Veranstaltungen//DE
CALSCALE:GREGORIAN
BEGIN:VEVENT
UID:69e75e7f4674c@gha.health
DTSTAMP:20260421T112447Z
DTSTART:20261020
DTEND:20261024
SUMMARY:AusBiotech 2026
LOCATION:Gold Coast, Australia
DESCRIPTION:SAVE THE DATE\nAustralia welcomes the global life sciences community to the AusBiotech International Conference 2026.\n\nConnect with international leaders in biotechnology, medtech and life sciences for networking, collaboration and insight into one of the world’s most dynamic innovation ecosystems.\n\nFurther information coming soon.
END:VEVENT
END:VCALENDAR
