BEGIN:VCALENDAR
VERSION:2.0
PRODID:-//gha.health//Veranstaltungen//DE
CALSCALE:GREGORIAN
BEGIN:VEVENT
UID:69ed5751ba800@gha.health
DTSTAMP:20260426T000745Z
DTSTART:20241103
DTEND:20241107
SUMMARY:4th Edition of AfriSummit | 3 – 6 Nov 2024 | Kairo
LOCATION:Kairo
DESCRIPTION:AfriSummit is back in its 4th edition!\n\nExplore cutting-edge insights and updates on regulatory affairs, pharmacovigilance, and medical devices in Africa. Enhance your skills with focused training sessions:\n\n–     PharmaReg AfriSummit (Regulatory Affairs): November 3rd & 4th, 2024 (HYBRID) (https://pra-me.us12.list-manage.com/track/click?u=becc45e68df04fee2877392e3&id=0cf919ef36&e=b4a98f8f3f)\n–     MedDevReg AfriSummit (Medical Device): November 5th & 6th, 2024 (HYBRID) (https://pra-me.us12.list-manage.com/track/click?u=becc45e68df04fee2877392e3&id=f9afe995c1&e=b4a98f8f3f)\n–     PV AfriSummit (Pharmacovigilance): November 5th & 6th, 2024 (ONSITE) (https://pra-me.us12.list-manage.com/track/click?u=becc45e68df04fee2877392e3&id=80ae1a13d9&e=b4a98f8f3f)\n–     eCTD AfriSummit (eCTD Training): November 6th, 2024 (ON-SITE) (https://pra-me.us12.list-manage.com/track/click?u=becc45e68df04fee2877392e3&id=8462f9ed56&e=b4a98f8f3f)\n\nFor more information, visit the AfriSummit website (https://www.pharmaregafrisummit.com/).\n\nEarly Bird discount is available until 31 August 2024.\n\nRegister now. (https://www.pharmaregafrisummit.com/delegates-register/)
END:VEVENT
END:VCALENDAR
