BEGIN:VCALENDAR
VERSION:2.0
PRODID:-//gha.health//Veranstaltungen//DE
CALSCALE:GREGORIAN
BEGIN:VEVENT
UID:69e7355fb8055@gha.health
DTSTAMP:20260421T082919Z
DTSTART:20241126T150000
DTEND:20241127T161136
SUMMARY:GHA-Mitgliedertagung & Rahmenprogramm
LOCATION:Akademie der Konrad-Adenauer-Stiftung e.V.
DESCRIPTION:Liebes GHA-Mitglied,\n\nwir laden Sie herzlich zur nächsten GHA-Mitgliedertagung am Mittwoch, den 27. November 2024, in Berlin ein. Freuen Sie sich auf einen Tag voller spannender Einblicke, inspirierender Erfolgsgeschichten und wertvollen Austauschs. Die Tagung wird in der Akademie der Konrad-Adenauer-Stiftung stattfinden.\n\nDen Abschluss bildet am Abend ein Empfang, zu dem wir Sie gemeinsam mit der Konrad-Adenauer-Stiftung herzlich willkommen heißen.\n\nBereits am Dienstag, den 26. November, laden wir zu unserem traditionellen Vorabendessen ein – ein idealer Auftakt für zwei Tage intensiver Zusammenarbeit. Am Nachmittag desselben Tages treffen sich zudem die Vorsitzenden der Arbeitsgruppen und der Vorstand zu einem Arbeitstreffen.\n\n\n\nDienstag, 26. November\n\n\n15:00 – 17:00 Uhr\nArbeitstreffen der AG-Vorsitzenden, Sprecher und Ländervereine mit dem GHA-Vorstand und der Geschäftsstelle\n\n\nab 18:00 Uhr\nInformelles Vorabendessen der GHA-Mitglieder (auf Selbstzahlerbasis), Restaurant MasliNovo, Motzstraße 76, Berlin, Germany 10779\n\n\n\n\n\n\nMittwoch, 27. November\n\n\n09:30 (Registrierung) – 17:15 Uhr\nGHA-Mitgliedertagung\n\n\nab 18:00 Uhr (Registrierung)\nGemeinsamer Abendempfang der Konrad-Adenauer-Stiftung und GHA (Details (https://gha.health/event/gha-kas-evening-reception-partners-for-health-joining-forces-to-strengthen-health-systems-in-developing-emerging-countries-27-nov-2024/))\n\n\n\n&nbsp;\n\nGerne möchten wir Sie darauf hinweisen, dass mehrere Teilnehmer Ihrer Organisation an der Mitgliedertagung teilnehmen können. Wenn Sie zudem ein potenzielles neues GHA-Mitglied zur Veranstaltung mitbringen möchten, setzen Sie sich bitte einfach mit uns in Verbindung.\n\nWir freuen uns darauf, Sie persönlich begrüße zu dürfen!\n\nHotelempfehlungen für die Mitgliedertagung in Berlin\n\nBitte beachten Sie, dass wir für die Tagung keine Zimmerkontingente in den aufgeführten Hotels reserviert haben. Die Liste enthält jedoch Empfehlungen für Hotels, die sich in günstiger Lage zum Veranstaltungsort befinden und sich gut für Ihre Übernachtung während der Mitgliedertagung eignen.\n\n&nbsp;\n\nPremier Inn Berlin City Hotel***\nKurfürstenstraße 78, 10787 Berlin\nEntfernung zur KAS-Akademie: 6 Min. ÖPNV, 13 Min. zu Fuß\nPremier Inn Berlin (https://www.premierinn.com/de/de/hotels/deutschland/berlin/berlin/berlin-city-centre.html)\n\n&nbsp;\n\nMotel One Berlin-Tiergarten***\nAn der Urania 12/14, 10787 Berlin\nEntfernung zur KAS-Akademie: 5 Min. ÖPNV, 14 Min. zu Fuß\nMotel One Tiergarten (https://www.motel-one.com/de/hotels/berlin/hotel-berlin-tiergarten/)\n\n&nbsp;\n\nScandic Berlin Potsdamer Platz****\nGabriele-Tergit-Promenade 19, 10963 Berlin\nEntfernung zur KAS-Akademie: 19 Min. ÖPNV\nScandic Berlin Potsdamer Platz (https://www.scandichotels.de/hotelsuche/deutschland/berlin/scandic-berlin-potsdamer-platz)\n\n&nbsp;\n\nTitanic Comfort Mitte***\nElisabeth-Mara-Straße 4, 10117 Berlin\nEntfernung zur KAS-Akademie: 27 Min. ÖPNV\nTitanic Comfort Mitte (https://www.titanic.com.tr/de/titanic-comfort-mitte)\n\n&nbsp;\n\nHotel Berlin, Berlin****\nLützowplatz 17, 10785 Berlin\nEntfernung zur KAS-Akademie: 5 Min. ÖPNV, 10 Min. zu Fuß\nHotel Berlin (https://www.radissonhotels.com/en-us/hotels/radisson-individuals-berlin?cid=a%3Ase+b%3Agmb+c%3Aemea+i%3Alocal+e%3Ari+d%3Acese+h%3ADEBERAAA)\n\n&nbsp;\n\nSheraton Berlin Grand Hotel Esplanade*****\nLützowufer 15, 10785 Berlin\nEntfernung zur KAS-Akademie: 7 Min. ÖPNV, 10 Min. zu Fuß\nSheraton Berlin (https://www.marriott.com/de/hotels/bersi-sheraton-berlin-grand-hotel-esplanade/overview/)
END:VEVENT
END:VCALENDAR
