BEGIN:VCALENDAR
VERSION:2.0
PRODID:-//gha.health//Veranstaltungen//DE
CALSCALE:GREGORIAN
BEGIN:VEVENT
UID:69e7355bc8190@gha.health
DTSTAMP:20260421T082915Z
DTSTART:20241203T100000
DTEND:20241203T110000
SUMMARY:21. Stammtisch “Regulatory” | 03 Dez 2024
DESCRIPTION:Der Stammtisch “Regulatory” befasst sich mit den regulatorischen Herausforderungen in den Mitgliedsunternehmen mit dem aktuellen Schwerpunkt “MDR”.\n\nZum offenen Austausch zu allen Themen rund um “Regulatory Affairs” laden wir am 03. Dezember 2024 von 10:00 bis 11:00 Uhr zur nächsten Sitzung ein. Die Veranstaltung findet virtuell statt. Die vollständige Tagesordnung steht HIER (https://gha.health/wp-content/uploads/2024/11/Tagesordnung-1.pdf) zum Download zur Verfügung.\n\nMöchten Sie uns im Vorfeld mitteilen, über welches Thema / welche Problematik wir uns austauschen sollen, dann teilen Sie uns dies mit Ihrer Anmeldung mit!\n\nDie Veranstaltung ist offen für MitarbeiterInnen unserer Mitgliedsorganisationen. Nicht-Mitglieder können nur auf gesonderte Einladung teilnehmen.
END:VEVENT
END:VCALENDAR
