BEGIN:VCALENDAR
VERSION:2.0
PRODID:-//gha.health//Veranstaltungen//DE
CALSCALE:GREGORIAN
BEGIN:VEVENT
UID:69e7355b3cc61@gha.health
DTSTAMP:20260421T082915Z
DTSTART:20241202
DTEND:20241207
SUMMARY:Kirgisistan: Markterkundungsreise | 2 – 6 Dez 2024
LOCATION:Kirgistan
DESCRIPTION:Wir laden Sie zur Teilnahme an der Markterkundungsreise zum Thema Analysen-, Bio-, Labor- und Medizintechnik vom 02.-06. Dezember 2024 nach Kirgisistan ein. Das Projekt wird von der Commit Project Partners GmbH (COMMIT) in Zusammenarbeit mit der Industrie- und Handelskammer in Kirgisistan und im Auftrag des Bundesministeriums für Wirtschaft und Klimaschutz (BMWK) organisiert. Es handelt sich dabei um eine projektbezogene Fördermaßnahme im Rahmen des Markterschließungsprogramms für KMU.\n\nDie Markterkundungsreise wird unterstützt von: SPECTARIS, der German Health Alliance und dem Ost-Ausschuss der Deutschen Wirtschaft.\n\nDeutsche Unternehmen bieten moderne und innovative Technologien, Anlagen, Ausstattung und Dienstleistungen, die sich in Kirgisistan großer Beliebtheit erfreuen. Die Markterkundung verhilft deutschen Unternehmen, den Markt in Kirgisistan sowie die Regelungen in der Forschung und Medizintechnik zu verstehen.\n\nDie Markterkundungsreise soll deutschen Unternehmen den Stand und den Bedarf im Bereich der Analysen-, Bio-, Labor- und Medizintechnik näherbringen und das Marktpotenzial sowie neue Kooperationsfelder beleuchten. Bilaterale Gespräche und Einblicke durch Unternehmens- und Institutionsbesuche bieten neue Marktkenntnisse und ermöglichen Zugang zu neuen Branchenkontakten.\n\nIhre Vorteile bei einer Teilnahme:\n\n 	Zielmarktwebinar, inkl. Handout, zur Vorbereitun\n 	Kooperationsgespräche mit kirgisischen Fachexperten und Unternehmen\n 	Vernetzung und Kontaktaufbau zu kirgisischen Unternehmen und Entscheidungsträgern\n 	Umfangreiches länder- und branchenspezifisches Fachwissen zu Kirgisistan und zum Markt für Analysen-, Bio-, Labor- und Medizintechnik\n 	Tiefgründige Einblicke in die lokalen Unternehmen, Gesundheits- und Diagnostikzentren\n 	Beratung zum Potenzial eines Markteinstiegs mit nachhaltigen Geschäftskontakten und eventueller Marktetablierung\n 	Networking-Möglichkeiten mit kirgisischen und deutschen Unternehmen\n 	Komplett organisiertes Programm vor Ort und Begleitung durch die Durchführungsgesellschaft und den lokalen Partner\n\nWeitere Informationen und Anmeldung! (https://commit-group.com/wp-content/uploads/2024/06/BMWK_MEK_Kirgisistan_Labortechnik_Infoletter_NEU.pdf)\n\nAnmeldeschluss ist Montag, der 09. September 2024.\n\nWir freuen uns über Ihr Interesse und auf Ihre Teilnahme!
END:VEVENT
END:VCALENDAR
