BEGIN:VCALENDAR
VERSION:2.0
PRODID:-//gha.health//Veranstaltungen//DE
CALSCALE:GREGORIAN
BEGIN:VEVENT
UID:69ed3f5e720bc@gha.health
DTSTAMP:20260425T222534Z
DTSTART:20241202
DTEND:20241206
SUMMARY:Katar: Wirtschaftsdelegation zum Thema „Chancen in der Gesundheits- und Medtech-Industrie in Katar“ | 2 – 5 Dez 2024
LOCATION:Katar
DESCRIPTION:Katar verfügt über ein gut ausgebautes Gesundheitssystem. Wachsende Staatseinnahmen verleihen dem Sektor zusätzlichen Schwung. Doha, die Hauptstadt Katars, strebt danach, sich zu einem führenden Zentrum des Gesundheitswesens zu entwickeln, und investiert erheblich in ein modernes Gesundheitswesen.\n\nDie AHK-Repräsentanz in Katar und SPECTARIS freuen sich, deutsche Unternehmen aus der Gesundheitsindustrie und Medizintechnik einzuladen, an unserer bevorstehenden Wirtschaftsdelegation nach Katar vom 02. bis 05. Dezember 2024 teilzunehmen. Die Delegationsreise, organisiert mit der Unterstützung von GHA – German Health Alliance GHA, bietet eine einzigartige Gelegenheit, die dynamische und schnell wachsende MedTech- und Gesundheitslandschaft Katars kennenzulernen und wertvolle Geschäftskontakte zu knüpfen.\n\nDas erwartet Sie:\n\n 	Einblicke und Hintergründe zum katarischen MedTech- und Gesundheitssektor sowie deren Entwicklungspotentiale und daraus resultierende Geschäftschancen\n 	Termine bei führenden medizinischen Einrichtungen und vertiefenden Gesprächsrunden\n 	Netzwerkveranstaltung mit Vertretern der internationalen und lokalen Business-Community\n 	Treffen mit potenziellen Geschäftspartnern (B2B), die anhand Ihrer Bedürfnisse sorgfältig ausgewählt werden.\n\nKOSTEN\n1.300 EUR pro Teilnehmer\n15 % Rabatt für AHK Gulf, SPECTARIS und GHA Mitglieder\n\nIn die Teilnahmegebühr eingeschlossen sind:\n\n 	Programmumsetzung und Betreuung vor Ort\n 	Transport zu Besprechungen & Terminen\n 	Bis zu zwei individuelle B2Bs anhand Ihrer Kriterien\n\nNicht enthalten sind:\n\n 	Flugkosten und Flughafentransfer\n 	Hotel/Unterkunft\n 	Zusätzliche B2B-Termine (250 EUR pro Termin)\n\nBitte melden Sie sich bis spätestens 30. September an: info@ahkqatar.com\n\nBei Rückfragen stehen Ihnen die AHK gerne unter folgender E-Mail-Adresse zur Verfügung: info@ahkqatar.com
END:VEVENT
END:VCALENDAR
