BEGIN:VCALENDAR
VERSION:2.0
PRODID:-//gha.health//Veranstaltungen//DE
CALSCALE:GREGORIAN
BEGIN:VEVENT
UID:69e735617c738@gha.health
DTSTAMP:20260421T082921Z
DTSTART:20250304T123000
DTEND:20250305T140000
SUMMARY:Workshop: „Globaler Gesundheitsmarkt im Fokus: Zusammenarbeit von NGOs und Unternehmen“
LOCATION:Malteser Kommende
DESCRIPTION:Die GHA – German Health Alliance und Malteser International laden herzlich vom 4. und 5. März 2025 in die Malteser Kommende Ehreshoven zu einem zweitägigen Workshop mit Kaminabend ein, der das wichtige Thema der Zusammenarbeit zwischen NGOs und Unternehmen im globalen Gesundheitsmarkt vertieft.\n\nNach einem ersten Austausch am 9. April 2024 im Malteser Campus in Köln sowie einem vorbereitenden Treffen am 11./12. September 2024 in Potsdam möchten wir die Diskussion nun weiterführen und ein Positionspapier erarbeiten, das als Grundlage für die Zusammenarbeit zwischen Nichtregierungsorganisationen und Wirtschaftsunternehmen dienen soll.\n\nDie Veranstaltung bietet spannende Einblicke aus den Niederlanden: Prof. Ronald de Jong, Gründer, Vorsitzender und Leiter der Philips Foundation, präsentiert Ansätze zur Corporate Social Responsibility, zur Arbeit von Unternehmensstiftungen und zur Zusammenarbeit zwischen Unternehmen und Nichtregierungsorganisationen in den Niederlanden.\n\nEin zentraler Programmpunkt ist die Diskussion eines Arbeitspapiers, das gemeinsam überarbeitet werden soll, um es in ein abgestimmtes Positionspapier zu überführen. Dieses Dokument soll als Grundlage für den weiteren Dialog mit Regierung, Unternehmensverbänden und NGOs dienen.\n\nDarüber hinaus bietet die Veranstaltung zahlreiche Gelegenheiten für intensiven Austausch und Networking, insbesondere im Rahmen des Kaminabends, der einen informellen und anregenden Rahmen für Gespräche schafft.\n\nWir freuen uns auf Ihre Teilnahme und eine produktive Diskussion!\n\nUnterkunft und Verpflegung:\n\nMalteser Kommende Ehreshoven\nEhreshoven 27, 51766 Engelskirchen\nTelefon: +49 (0) 2263 800-0\nE-Mail: kommende@malteser.org\nWebsite: www.malteser-kommende.de (https://www.malteser-kommende.de)\n\nDie Malteser Kommende verfügt über eine begrenzte Anzahl von 25 Zimmern.\n\nKosten:\n\nFür Teilnehmende:\n\n 	Mittagessen am 04.03.2025 (optional): € 19,80\n 	Vollpension (04.-05.03.2025): € 146,00 (EZ inkl. Mahlzeiten ab Kaffeepause am 04.03.25 bis Mittagessen am 05.03.25)\n\nFür Teilnehmenden, die Mitarbeitende kirchlicher Organisationen oder NROs sind (nur bei Abrechnung über den Träger):\n\n 	Mittagessen am 04.03.2025 (optional): € 19,80\n 	Vollpension (04.-05.03.2025): € 106,30 (EZ inkl. Mahlzeiten ab Kaffeepause am 04.03.25 bis Mittagessen am 05.03.25)\n\nAbrechnung:\nBitte geben Sie bei der Anmeldung die vollständige Rechnungsanschrift an und vermerken Sie, ob die Abrechnung vor Ort erfolgt oder über den jeweiligen Träger.\n\nAlternative Unterkunft:\n\nDie Malteser Kommende verfügt über eine begrenzte Anzahl von 25 Zimmern. Weitere Unterkünfte können im nahegelegenen Hotel Lüdenbach in Overath-Vilkerath gebucht werden.\n\nHotel Lüdenbach\nKlef 99, 51491 Overath-Vilkerath\nWebsite: www.hotel-luedenbach.de (https://www.hotel-luedenbach.de)\nTelefon: +49 (0) 2206 911910\n\nAnmeldung:\n\nBitte füllen Sie das beiliegende Anmeldeformular frühzeitig und vollständig aus, um Ihre Teilnahme und Unterkunft zu sichern.
END:VEVENT
END:VCALENDAR
