BEGIN:VCALENDAR
VERSION:2.0
PRODID:-//gha.health//Veranstaltungen//DE
CALSCALE:GREGORIAN
BEGIN:VEVENT
UID:69e735999cee8@gha.health
DTSTAMP:20260421T083017Z
DTSTART:20250406
DTEND:20250411
SUMMARY:Aufstrebendes Bangladesch – Neue Chancen von Auftragsfertigung bis Forschung & Entwicklung
LOCATION:Dhaka & Chattogram, Bangladesch
DESCRIPTION:Vom 6. bis 10. April 2025 findet die branchenübergreifende Unternehmerreise „Aufstrebendes Bangladesch – Neue Chancen von Auftragsfertigung bis Forschung & Entwicklung“ nach Dhaka und Chattogram (Chittagong) statt.\n\n\nBangladesch gehört mit 170 Millionen Einwohnern zu den dynamischsten Märkten in der Region. Auch unter der Übergangsregierung von Friedensnobelpreisträger Prof. Muhammad Yunus verzeichnet das Land seit Jahren Wachstumsraten von sechs bis sieben Prozent. Dank bemerkenswerter wirtschaftlicher Entwicklung wird Bangladesch voraussichtlich 2026 den Status eines Middle Income Country erreichen.\nWirtschaftliche Chancen und Schwerpunkte\nBangladeschs klassische Exportgüter sind weiterhin Bekleidung, Textilien, Naturfasern und verwandte Produkte. Darüber hinaus haben sich Fahrräder und Pharmaprodukte international etabliert. Der Infrastruktursektor bietet deutschen Unternehmen Beteiligungsmöglichkeiten durch zahlreiche Ausbau- und Modernisierungsprojekte. In Hochtechnologiebereichen wie ICT, Forschung und Entwicklung gibt es erste Investitionen, und eine lebendige Start-up-Szene ist entstanden.\nProgramm und Mehrwert der Unternehmerreise\nDie Unternehmerreise des OAV ermöglicht deutschen Unternehmen:\n\n 	Direkten Kontakt zu politischen und wirtschaftlichen Entscheidungsträgern in Bangladesch.\n 	Besuche bei lokalen und deutschen Unternehmen vor Ort.\n 	Teilnahme an Netzwerkveranstaltungen in Dhaka und Chattogram.\n 	Teilnahme am Bangladesh International Investment Summit 2025.\n 	Begleitung durch Vertreterinnen des Bundesministeriums für Wirtschaft und Klimaschutz sowie des Auswärtigen Amts.\n\n&nbsp;\nAnsprechpartner\nInes Budarick\nRegionalmanagerin Südasien\nTel.: 040 35 75 59-16\nE-Mail: budarick@oav.de\n\n&nbsp;\nWeitere Informationen\nFlyer  (https://www.oav.de/fileadmin/user_upload/250227_OAV_Aufstrebendes_Bangladesch_Flyer_DEU.pdf)\nAnmeldung zur Unternehmerreise (https://online4.superoffice.com/Cust21212/CS/scripts/customer.fcgi?action=formFrame&formId=F-gIDCnvpV)
END:VEVENT
END:VCALENDAR
