BEGIN:VCALENDAR
VERSION:2.0
PRODID:-//gha.health//Veranstaltungen//DE
CALSCALE:GREGORIAN
BEGIN:VEVENT
UID:69e7641b4221c@gha.health
DTSTAMP:20260421T114843Z
DTSTART:20250616
DTEND:20250618
SUMMARY:Deutsch-Brasilianische Wirtschaftstage 2025
LOCATION:Salvador da Bahia, Brasilien
DESCRIPTION:Am 16. und 17. Juni 2025 ist es soweit! Die nächsten Deutsch-Brasilianischen Wirtschaftstage finden in Salvador da Bahia, im Nordosten Brasiliens, statt. Die Veranstaltung gilt als bedeutendste Plattform der bilateralen Wirtschaftsbeziehungen zwischen Deutschland und Brasilien.\n\n\nDas Jahr 2025 bringt weitreichende politische und wirtschaftliche Entwicklungen mit sich. Welche internationale Ausrichtung wird die neue Bundesregierung nach der Wahl verfolgen? Welchen Kurs schlagen die BRICS+-Staaten ein? Wie können Brasilien und Deutschland ihre traditionell engen Wirtschaftsbeziehungen weiter vertiefen?\n\nDiese und weitere zentrale Themen stehen auf dem Programm der Wirtschaftstage, die in Zusammenarbeit mit dem Partnerverband CNI organisiert werden. Die Konferenz findet jährlich abwechselnd in Deutschland und Brasilien statt und dient als ideale Plattform für Unternehmen mit Geschäftsbeziehungen zu Brasilien. Die Veranstaltung bietet Gelegenheit zur strategischen Positionierung, zur Diskussion aktueller wirtschaftlicher Themen und zur Erweiterung des Netzwerks.\n\nMehrere hundert hochrangige Vertreter aus Wirtschaft und Politik werden erwartet.\n\nEine Anmeldung und weitere Informationen folgen in Kürze.\n\n&nbsp;
END:VEVENT
END:VCALENDAR
