BEGIN:VCALENDAR
VERSION:2.0
PRODID:-//gha.health//Veranstaltungen//DE
CALSCALE:GREGORIAN
BEGIN:VEVENT
UID:69e737acbb53c@gha.health
DTSTAMP:20260421T083908Z
DTSTART:20250416T090004
DTEND:20250416T100004
SUMMARY:„VIETNAM – Ein aufstrebender Gesundheitsmarkt – Chancen für deutsche Unternehmen“
LOCATION:MS Teams
DESCRIPTION:Vietnam zählt seit Jahren zu den dynamischsten und am schnellsten wachsenden Volkswirtschaften im Asien-Pazifik-Raum. Das Land überzeugt durch günstige Lohnkosten, eine junge, agile Bevölkerung, eine investorenfreundliche Regierungspolitik sowie eine strategische Lage nahe der VR China. Zudem profitiert Vietnam von zahlreichen bilateralen und multilateralen Freihandelsabkommen.\n\n\nMit wachsendem Wohlstand entwickelt sich auch der vietnamesische Gesundheitsmarkt rasant weiter. Die Gesundheitsausgaben des Landes steigen kontinuierlich und beliefen sich 2023 auf rund 17 Milliarden US-Dollar, mit einer jährlichen Wachstumsrate von etwa 10 %. Der Medizintechnikmarkt wird auf etwa 2,5 Milliarden US-Dollar geschätzt, wobei 90 % der medizinischen Geräte importiert werden. Insbesondere hochwertige Medizintechnik sowie innovative digitale Gesundheitslösungen sind stark gefragt.\n\n\nNeben dem weiterhin dominierenden staatlichen Gesundheitssektor gewinnen privatwirtschaftliche Anbieter – darunter private Kliniken und Krankenhäuser – zunehmend an Bedeutung. Auch der Medizintourismus wird gezielt gefördert, um internationale Patienten anzuziehen.\n\n\nDas Webinar bietet einen umfassenden Einblick in die aktuellen Entwicklungen und Chancen des vietnamesischen Gesundheitsmarktes. Zunächst präsentieren Björn Koslowski von der AHK Vietnam und Peter Buerstedde, Vietnam-Korrespondent der GTAI, eine Marktanalyse und beleuchten zentrale Trends. Anschließend erläutert Marius A. Ryrko, Geschäftsführer von Gerber Architekten International, das Konzept der Healing Architecture und dessen Bedeutung für Gesundheitsbauten. Abschließend berichtet Nguyen Thi Ngoc Yen von Siemens Healthineers Vietnam über die Erfahrungen ihres Unternehmens im Markt und gibt eine Einschätzung zu den zukünftigen Potenzialen der Branche.
END:VEVENT
END:VCALENDAR
