BEGIN:VCALENDAR
VERSION:2.0
PRODID:-//gha.health//Veranstaltungen//DE
CALSCALE:GREGORIAN
BEGIN:VEVENT
UID:69e735608722b@gha.health
DTSTAMP:20260421T082920Z
DTSTART:20250714
DTEND:20250719
SUMMARY:Clustervermarktungsreise nach Malaysia für Unternehmen der MedTech- und Gesundheitsbranche
LOCATION:Kuala Lumpur, Malaysia
DESCRIPTION:Vom 14. bis 18. Juli 2025 findet in Kuala Lumpur, Malaysia eine von Germany Trade & Invest (GTAI) geförderte Clustervermarktungsreise für deutsche Unternehmen aus dem Healthcare- und MedTech-Sektor statt. Die ursprünglich auf Unternehmen aus Brandenburg ausgerichtete Initiative wurde inzwischen für alle interessierten MedTech-Unternehmen in Deutschland geöffnet.\n\n\nMalaysia ist der größte Markt für medizinische Geräte in Südostasien. Die steigende Nachfrage nach Gesundheitsleistungen, der Medizintourismus sowie zahlreiche private Krankenhäuser mit internationalem Standard machen das Land zu einem attraktiven Ziel für Unternehmen der Gesundheitswirtschaft.\n\n\nProgrammpunkte vor Ort:\n\n\n\n\n 	\nPitch-Veranstaltung vor malaysischem Fachpublikum\n\n\n\n 	\nBusiness Speed-Dating mit potenziellen Kooperationspartnern\n\n\n\n 	\nNetworking mit Branchenakteuren und Entscheidern\n\n\n\n 	\nBesichtigungen bei Krankenhäusern, Forschungseinrichtungen und Verbänden\n\n\n\n 	\nLänderbriefing zum malaysischen Gesundheitsmarkt\n\n\n\n\nKosten:Die GTAI übernimmt die Kosten für Programm, Networking, Transfers vor Ort sowie Organisation (im Rahmen der De-Minimis-Verordnung der EU).Teilnehmende tragen lediglich ihre individuellen Reise-, Übernachtungs- und Verpflegungskosten.\n\n\nZielgruppe:Alle interessierten deutschen Unternehmen der MedTech-Branche.\n\n\nWeitere Infos & Anmeldung:Zur Projektseite (https://tradehorizons.com/international-trade-mission/brandenburg-meets-malaysia/)\n\n\nKontakt:Kirstin WenkWirtschaftsförderung Land Brandenburg GmbHTel.: +49 331 730 61-312E-Mail: kirstin.wenk@wfbb.de (mailto:kirstin.wenk@wfbb.de)\n\n\nAlessandra BaldoniTrade HorizonsTel.: +49 228 763833-84E-Mail: alessandra.baldoni@tradehorizons.com (mailto:alessandra.baldoni@tradehorizons.com)
END:VEVENT
END:VCALENDAR
